Workbook

Sheet Data
A1: Estimation de votre prestation annuelle à la retraite | J1: Show, tout voir : Hide, pour client : Test, Tester conditionnal formating
B2: Régime de pension pour le personnel de soutien, les techniciens et techniciennes et le personnel administratif ou professionnel de l'Université de Moncton | J2: Hide | N2: Indexation disponible | P2: Mois | Q2: Équivalent | S2: Année | T2: Salaire
B3: =CONCATENATE("(pour calcul de l'année ",Calculatrice!$A$7,")") -> (pour calcul de l'année 2026) | N3: 0 | P3: 1 | Q3: janvier | S3: =+C9-1 -> -1 | T3: =+$E$12 -> 0
N4: =+N3+0.0025 -> 0.0025 | P4: =+P3+1 -> 2 | Q4: février | S4: =+C10 -> 0 | T4: =$E$13 -> 0
B5: Nom | N5: =+N4+0.0025 -> 0.005 | P5: =+P4+1 -> 3 | Q5: mars | S5: Estimation annuelle | T5: =FLOOR(POWER(T4/T3,1/(S4-S3))-1,0.0025) -> #DIV/0!
N6: =+N5+0.0025 -> 0.0075 | P6: =+P5+1 -> 4 | Q6: avril
C7: Année | D7: Mois | E7: Jour | N7: =+N6+0.0025 -> 0.01 | P7: =+P6+1 -> 5 | Q7: mai
B8: Date d'adhésion : | E8: 1 | F8: (selon le relevé de pension - p.3) | N8: =+N7+0.0025 -> 0.0125 | P8: =+P7+1 -> 6 | Q8: juin
B9: Date du relevé utilisé : | D9: 12 | E9: 31 | F9: (selon la page couverture de votre relevé) | N9: =+N8+0.0025 -> 0.015 | P9: =+P8+1 -> 7 | Q9: juillet
B10: Date actuelle : | N10: =+N9+0.0025 -> 0.0175 | P10: =+P9+1 -> 8 | Q10: août
N11: =+N9+0.25% -> 0.0175 | P11: =+P10+1 -> 9 | Q11: septembre
B12: Salaire annuel moyen utilisé pour le calcul de votre prestation : | F12: (selon le relevé de pension - p.2) | N12: =+N11+0.25% -> 0.02 | P12: =+P11+1 -> 10 | Q12: octobre
B13: Salaire annuel actuel : | N13: =+N10+0.0025 -> 0.02 | P13: =+P12+1 -> 11 | Q13: novembre
N14: =+N13+0.0025 -> 0.0225 | P14: =+P13+1 -> 12 | Q14: décembre
B15: Pourcentage annuel d'augmentation salariale future | F15: =+IF(_xlfn.ISFORMULA(E15),"Basés sur l'information des salaires précédents.","") | N15: =+N14+0.0025 -> 0.025
B16: Indiquer l’augmentation future annuelle que vous prévoyez pour votre salaire. Si vous ne savez pas ou que vous pensez que votre salaire n’augmentera pas, indiquez 0.00%. | N16: =+N15+0.0025 -> 0.0275
N17: =+N16+0.0025 -> 0.03
B18: Attention : Le % d'augmentation salarial indiqué influencera le montant futur de vos prestations | N18: =+N17+0.0025 -> 0.0325
N19: =+N18+0.0025 -> 0.035
B20: ="Nombre d'années de service créditées selon l'information du dernier relevé de l'Assomption Vie ("&$C$9&")" -> Nombre d'années de service créditées selon l'information du dernier relevé de l'Assomption Vie () | N20: =+N19+0.0025 -> 0.0375
N21: =+N20+0.0025 -> 0.04
B22: Avant 1992 1,54 % | C22: Depuis 1992 1,54 % | D22: Avant 1992 2 % | E22: Depuis 1992 2 % | F22: Rachat avant 1992 2 % | G22: Rachat après 1992 2 % | H22: Depuis 2014
E24: Prestation annuelle de retraite depuis 2014 :
C26: Année (AAAA) | D26: Mois (MM)
B27: Date de retraite normale | E27: (selon le relevé de pension - p.3 section des Reseignements personnels)
B28: Date de retraite désirée
B30: Salaire moyen final 3 ans à la date de retraite prévue: | E30: =Calculatrice!M20 -> #VALUE!
B31: # mois pour atteindre la retraite désirée versus la date de retraite normale ( Utilisé pour le calcul de la pénalité) | F31: =IF(MAX(ROUND((DATE(C27,D27,1)-DATE(C28,D28,1))/365.25*12,0),0)>120,"Vous pouvez seulement vous retirer 10 ans avant votre date normale de retraite.",IF(MAX(ROUND((DATE(C27,D27,1)-DATE(C28,D28,1))/365.25*12,0),0)=0,0,ROUND((DATE(C27,D27,1)-DATE(C28,D28,1))/365.25*12,0))) -> #NUM!
B32: =IF(OR(AND(C28-C9<4,$C$8<2014),$J$2="Show"),"Attention","") -> Attention
B33: =IF(B32="","","L'estimation basée pour le salaire final pourrait être différente que la réalité étant donné les hypothèses du salaire moyen des trois dernières années qui sont utilisées pour approximer le résultat.") -> L'estimation basée pour le salaire final pourrait être différente que la réalité étant donné les hypothèses du salaire moyen des trois dernières années qui sont utilisées pour approximer le résultat.
B35: Estimation de la prestation en date du : | D35: =+E57 -> #N/A
B38: Calcul de vos acquis de pension jusqu'au 31 décembre 2013 (avant l'actualisation du régime)
B40: ="Prestation annuelle le "&E57&" avant réduction" -> #N/A | E40: =E65 -> #VALUE!
B41: Réduction % | E41: =+F31*0.003 -> #NUM!
B42: Réduction $ | E42: =E40*E41 -> #VALUE!
B44: Nombre d'années de service créditées jusqu'au 31 décembre 2013 | E44: =B23+C23+F23+G23+E23+D23 -> 0
B45: Moyenne salariale - 3 meilleures années | E45: =MIN(E30,85750) -> #VALUE!
B46: Prestation accumulée jusqu'au 31 décembre 2013 | F46: =+E40-E42 -> #VALUE!
B48: Calcul de vos acquis de pension à partir du 1er janvier 2014 (après l'actualisation du régime)
B50: =+B40 -> #N/A | E50: =E66 -> 0
...

Sheet Calculatrice
E2: =MIN(2%,Data!E15) -> 0.02
A3: Année | B3: Salaire pour calcul | C3: Salaire carrière | D3: Rente pour service < 2013 | E3: max regime | F3: Pour calcul moyenne 3 années | H3: https://www.canada.ca/en/revenue-agency/services/tax/registered-plans-administrators/pspa/mp-rrsp-dpsp-tfsa-limits-ympe.html
A4: =+MAX(tablemax[Année])-3 -> 2023 | B4: =IFERROR(+VLOOKUP(A4,$L$7:$M$11,2,0),B3*(1+Data!$E$15)) -> #VALUE! | C4: =ROUND(IF(A4<Data!$C$28,MIN(B4,E4),IF(A4=Data!$C$28,MIN(B4,E4)*(Data!$D$28-1)/12,0)),2) -> 0 | D4: =ROUND(IF(A4<Data!$C$28,1,IF(A4=Data!$C$28,(Data!$D$28-1)/12,0)),8) -> 0 | E4: =+VLOOKUP(A4,tablemax[],3,FALSE) -> 175333.8 | F4: =ROUND(IF(OR(A4>YEAR($M$18),A4<YEAR($M$17)),0,YEARFRAC(MAX(DATE(A4,1,1),$M$17),MIN(DATE(A4,12,31),$M$18),0)),8) -> #NUM!
A5: =+A4+1 -> 2024 | B5: =IFERROR(+VLOOKUP(A5,$L$7:$M$11,2,0),B4*(1+Data!$E$15)) -> #VALUE! | C5: =ROUND(IF(A5<Data!$C$28,MIN(B5,E5),IF(A5=Data!$C$28,MIN(B5,E5)*(Data!$D$28-1)/12,0)),2) -> 0 | D5: =ROUND(IF(A5<Data!$C$28,1,IF(A5=Data!$C$28,(Data!$D$28-1)/12,0)),8) -> 0 | E5: =+VLOOKUP(A5,tablemax[],3,FALSE) -> 180500 | F5: =ROUND(IF(OR(A5>YEAR($M$18),A5<YEAR($M$17)),0,YEARFRAC(MAX(DATE(A5,1,1),$M$17),MIN(DATE(A5,12,31),$M$18),0)),8) -> #NUM! | H5: Année | I5: Plafond des PD | J5: Salaire max
A6: =+A5+1 -> 2025 | B6: =IFERROR(+VLOOKUP(A6,$L$7:$M$11,2,0),B5*(1+Data!$E$15)) -> #VALUE! | C6: =ROUND(IF(A6<Data!$C$28,MIN(B6,E6),IF(A6=Data!$C$28,MIN(B6,E6)*(Data!$D$28-1)/12,0)),2) -> 0 | D6: =ROUND(IF(A6<Data!$C$28,1,IF(A6=Data!$C$28,(Data!$D$28-1)/12,0)),8) -> 0 | E6: =+VLOOKUP(A6,tablemax[],3,FALSE) -> 187833.5 | F6: =ROUND(IF(OR(A6>YEAR($M$18),A6<YEAR($M$17)),0,YEARFRAC(MAX(DATE(A6,1,1),$M$17),MIN(DATE(A6,12,31),$M$18),0)),8) -> #NUM! | H6: 1990 | I6: 1722.22 | J6: =+tablemax[[#This Row],[Plafond des PD]]/0.02 -> 86111 | L6: Année | M6: Salaire
A7: =+A6+1 -> 2026 | B7: =IFERROR(+VLOOKUP(A7,$L$7:$M$11,2,0),B6*(1+Data!$E$15)) -> #VALUE! | C7: =ROUND(IF(A7<Data!$C$28,MIN(B7,E7),IF(A7=Data!$C$28,MIN(B7,E7)*(Data!$D$28-1)/12,0)),2) -> 0 | D7: =ROUND(IF(A7<Data!$C$28,1,IF(A7=Data!$C$28,(Data!$D$28-1)/12,0)),8) -> 0 | E7: =+VLOOKUP(A7,tablemax[],3,FALSE) -> 196611 | F7: =ROUND(IF(OR(A7>YEAR($M$18),A7<YEAR($M$17)),0,YEARFRAC(MAX(DATE(A7,1,1),$M$17),MIN(DATE(A7,12,31),$M$18),0)),8) -> #NUM! | H7: 1991 | I7: 1722.22 | J7: =+tablemax[[#This Row],[Plafond des PD]]/0.02 -> 86111 | L7: =+L8-1 -> -4 | M7: =+IF(L7=Data!$S$3,Data!$T$3,M8/(1+Data!$T$5)) -> #DIV/0!
A8: =+A7+1 -> 2027 | B8: =IFERROR(+VLOOKUP(A8,$L$7:$M$11,2,0),B7*(1+Data!$E$15)) -> #VALUE! | C8: =ROUND(IF(A8<Data!$C$28,MIN(B8,E8),IF(A8=Data!$C$28,MIN(B8,E8)*(Data!$D$28-1)/12,0)),2) -> 0 | D8: =ROUND(IF(A8<Data!$C$28,1,IF(A8=Data!$C$28,(Data!$D$28-1)/12,0)),8) -> 0 | E8: =+E7*(1+$E$2) -> 200543.22 | F8: =ROUND(IF(OR(A8>YEAR($M$18),A8<YEAR($M$17)),0,YEARFRAC(MAX(DATE(A8,1,1),$M$17),MIN(DATE(A8,12,31),$M$18),0)),8) -> #NUM! | H8: 1992 | I8: 1722.22 | J8: =+tablemax[[#This Row],[Plafond des PD]]/0.02 -> 86111 | L8: =+L9-1 -> -3 | M8: =+IF(L8=Data!$S$3,Data!$T$3,M9/(1+Data!$T$5)) -> #DIV/0!
A9: =+A8+1 -> 2028 | B9: =IFERROR(+VLOOKUP(A9,$L$7:$M$11,2,0),B8*(1+Data!$E$15)) -> #VALUE! | C9: =ROUND(IF(A9<Data!$C$28,MIN(B9,E9),IF(A9=Data!$C$28,MIN(B9,E9)*(Data!$D$28-1)/12,0)),2) -> 0 | D9: =ROUND(IF(A9<Data!$C$28,1,IF(A9=Data!$C$28,(Data!$D$28-1)/12,0)),8) -> 0 | E9: =+E8*(1+$E$2) -> 204554.08 | F9: =ROUND(IF(OR(A9>YEAR($M$18),A9<YEAR($M$17)),0,YEARFRAC(MAX(DATE(A9,1,1),$M$17),MIN(DATE(A9,12,31),$M$18),0)),8) -> #NUM! | H9: 1993 | I9: 1722.22 | J9: =+tablemax[[#This Row],[Plafond des PD]]/0.02 -> 86111 | L9: =+L10-1 -> -2 | M9: =+IF(L9=Data!$S$3,Data!$T$3,M10/(1+Data!$T$5)) -> #DIV/0!
A10: =+A9+1 -> 2029 | B10: =IFERROR(+VLOOKUP(A10,$L$7:$M$11,2,0),B9*(1+Data!$E$15)) -> #VALUE! | C10: =ROUND(IF(A10<Data!$C$28,MIN(B10,E10),IF(A10=Data!$C$28,MIN(B10,E10)*(Data!$D$28-1)/12,0)),2) -> 0 | D10: =ROUND(IF(A10<Data!$C$28,1,IF(A10=Data!$C$28,(Data!$D$28-1)/12,0)),8) -> 0 | E10: =+E9*(1+$E$2) -> 208645.17 | F10: =ROUND(IF(OR(A10>YEAR($M$18),A10<YEAR($M$17)),0,YEARFRAC(MAX(DATE(A10,1,1),$M$17),MIN(DATE(A10,12,31),$M$18),0)),8) -> #NUM! | H10: 1994 | I10: 1722.22 | J10: =+tablemax[[#This Row],[Plafond des PD]]/0.02 -> 86111 | L10: =+L11-1 -> -1 | M10: =+IF(L10=Data!$S$3,Data!$T$3,M11/(1+Data!$T$5)) -> 0
A11: =+A10+1 -> 2030 | B11: =IFERROR(+VLOOKUP(A11,$L$7:$M$11,2,0),B10*(1+Data!$E$15)) -> #VALUE! | C11: =ROUND(IF(A11<Data!$C$28,MIN(B11,E11),IF(A11=Data!$C$28,MIN(B11,E11)*(Data!$D$28-1)/12,0)),2) -> 0 | D11: =ROUND(IF(A11<Data!$C$28,1,IF(A11=Data!$C$28,(Data!$D$28-1)/12,0)),8) -> 0 | E11: =+E10*(1+$E$2) -> 212818.07 | F11: =ROUND(IF(OR(A11>YEAR($M$18),A11<YEAR($M$17)),0,YEARFRAC(MAX(DATE(A11,1,1),$M$17),MIN(DATE(A11,12,31),$M$18),0)),8) -> #NUM! | H11: 1995 | I11: 1722.22 | J11: =+tablemax[[#This Row],[Plafond des PD]]/0.02 -> 86111 | L11: =Data!S4 -> 0 | M11: =+Data!T4 -> 0
A12: =+A11+1 -> 2031 | B12: =IFERROR(+VLOOKUP(A12,$L$7:$M$11,2,0),B11*(1+Data!$E$15)) -> #VALUE! | C12: =ROUND(IF(A12<Data!$C$28,MIN(B12,E12),IF(A12=Data!$C$28,MIN(B12,E12)*(Data!$D$28-1)/12,0)),2) -> 0 | D12: =ROUND(IF(A12<Data!$C$28,1,IF(A12=Data!$C$28,(Data!$D$28-1)/12,0)),8) -> 0 | E12: =+E11*(1+$E$2) -> 217074.43 | F12: =ROUND(IF(OR(A12>YEAR($M$18),A12<YEAR($M$17)),0,YEARFRAC(MAX(DATE(A12,1,1),$M$17),MIN(DATE(A12,12,31),$M$18),0)),8) -> #NUM! | H12: 1996 | I12: 1722.22 | J12: =+tablemax[[#This Row],[Plafond des PD]]/0.02 -> 86111
A13: =+A12+1 -> 2032 | B13: =IFERROR(+VLOOKUP(A13,$L$7:$M$11,2,0),B12*(1+Data!$E$15)) -> #VALUE! | C13: =ROUND(IF(A13<Data!$C$28,MIN(B13,E13),IF(A13=Data!$C$28,MIN(B13,E13)*(Data!$D$28-1)/12,0)),2) -> 0 | D13: =ROUND(IF(A13<Data!$C$28,1,IF(A13=Data!$C$28,(Data!$D$28-1)/12,0)),8) -> 0 | E13: =+E12*(1+$E$2) -> 221415.92 | F13: =ROUND(IF(OR(A13>YEAR($M$18),A13<YEAR($M$17)),0,YEARFRAC(MAX(DATE(A13,1,1),$M$17),MIN(DATE(A13,12,31),$M$18),0)),8) -> #NUM! | H13: 1997 | I13: 1722.22 | J13: =+tablemax[[#This Row],[Plafond des PD]]/0.02 -> 86111
A14: =+A13+1 -> 2033 | B14: =IFERROR(+VLOOKUP(A14,$L$7:$M$11,2,0),B13*(1+Data!$E$15)) -> #VALUE! | C14: =ROUND(IF(A14<Data!$C$28,MIN(B14,E14),IF(A14=Data!$C$28,MIN(B14,E14)*(Data!$D$28-1)/12,0)),2) -> 0 | D14: =ROUND(IF(A14<Data!$C$28,1,IF(A14=Data!$C$28,(Data!$D$28-1)/12,0)),8) -> 0 | E14: =+E13*(1+$E$2) -> 225844.24 | F14: =ROUND(IF(OR(A14>YEAR($M$18),A14<YEAR($M$17)),0,YEARFRAC(MAX(DATE(A14,1,1),$M$17),MIN(DATE(A14,12,31),$M$18),0)),8) -> #NUM! | H14: 1998 | I14: 1722.22 | J14: =+tablemax[[#This Row],[Plafond des PD]]/0.02 -> 86111
A15: =+A14+1 -> 2034 | B15: =IFERROR(+VLOOKUP(A15,$L$7:$M$11,2,0),B14*(1+Data!$E$15)) -> #VALUE! | C15: =ROUND(IF(A15<Data!$C$28,MIN(B15,E15),IF(A15=Data!$C$28,MIN(B15,E15)*(Data!$D$28-1)/12,0)),2) -> 0 | D15: =ROUND(IF(A15<Data!$C$28,1,IF(A15=Data!$C$28,(Data!$D$28-1)/12,0)),8) -> 0 | E15: =+E14*(1+$E$2) -> 230361.12 | F15: =ROUND(IF(OR(A15>YEAR($M$18),A15<YEAR($M$17)),0,YEARFRAC(MAX(DATE(A15,1,1),$M$17),MIN(DATE(A15,12,31),$M$18),0)),8) -> #NUM! | H15: 1999 | I15: 1722.22 | J15: =+tablemax[[#This Row],[Plafond des PD]]/0.02 -> 86111
A16: =+A15+1 -> 2035 | B16: =IFERROR(+VLOOKUP(A16,$L$7:$M$11,2,0),B15*(1+Data!$E$15)) -> #VALUE! | C16: =ROUND(IF(A16<Data!$C$28,MIN(B16,E16),IF(A16=Data!$C$28,MIN(B16,E16)*(Data!$D$28-1)/12,0)),2) -> 0 | D16: =ROUND(IF(A16<Data!$C$28,1,IF(A16=Data!$C$28,(Data!$D$28-1)/12,0)),8) -> 0 | E16: =+E15*(1+$E$2) -> 234968.35 | F16: =ROUND(IF(OR(A16>YEAR($M$18),A16<YEAR($M$17)),0,YEARFRAC(MAX(DATE(A16,1,1),$M$17),MIN(DATE(A16,12,31),$M$18),0)),8) -> #NUM! | H16: 2000 | I16: 1722.22 | J16: =+tablemax[[#This Row],[Plafond des PD]]/0.02 -> 86111
A17: =+A16+1 -> 2036 | B17: =IFERROR(+VLOOKUP(A17,$L$7:$M$11,2,0),B16*(1+Data!$E$15)) -> #VALUE! | C17: =ROUND(IF(A17<Data!$C$28,MIN(B17,E17),IF(A17=Data!$C$28,MIN(B17,E17)*(Data!$D$28-1)/12,0)),2) -> 0 | D17: =ROUND(IF(A17<Data!$C$28,1,IF(A17=Data!$C$28,(Data!$D$28-1)/12,0)),8) -> 0 | E17: =+E16*(1+$E$2) -> 239667.71 | F17: =ROUND(IF(OR(A17>YEAR($M$18),A17<YEAR($M$17)),0,YEARFRAC(MAX(DATE(A17,1,1),$M$17),MIN(DATE(A17,12,31),$M$18),0)),8) -> #NUM! | H17: 2001 | I17: 1722.22 | J17: =+tablemax[[#This Row],[Plafond des PD]]/0.02 -> 86111 | L17: Date début salaire final | M17: =+EDATE(M18,-36) -> #NUM!
A18: =+A17+1 -> 2037 | B18: =IFERROR(+VLOOKUP(A18,$L$7:$M$11,2,0),B17*(1+Data!$E$15)) -> #VALUE! | C18: =ROUND(IF(A18<Data!$C$28,MIN(B18,E18),IF(A18=Data!$C$28,MIN(B18,E18)*(Data!$D$28-1)/12,0)),2) -> 0 | D18: =ROUND(IF(A18<Data!$C$28,1,IF(A18=Data!$C$28,(Data!$D$28-1)/12,0)),8) -> 0 | E18: =+E17*(1+$E$2) -> 244461.07 | F18: =ROUND(IF(OR(A18>YEAR($M$18),A18<YEAR($M$17)),0,YEARFRAC(MAX(DATE(A18,1,1),$M$17),MIN(DATE(A18,12,31),$M$18),0)),8) -> #NUM! | H18: 2002 | I18: 1722.22 | J18: =+tablemax[[#This Row],[Plafond des PD]]/0.02 -> 86111 | L18: Date de retraite | M18: =DATE(Data!C28,Data!D28,1) -> #NUM!
A19: =+A18+1 -> 2038 | B19: =IFERROR(+VLOOKUP(A19,$L$7:$M$11,2,0),B18*(1+Data!$E$15)) -> #VALUE! | C19: =ROUND(IF(A19<Data!$C$28,MIN(B19,E19),IF(A19=Data!$C$28,MIN(B19,E19)*(Data!$D$28-1)/12,0)),2) -> 0 | D19: =ROUND(IF(A19<Data!$C$28,1,IF(A19=Data!$C$28,(Data!$D$28-1)/12,0)),8) -> 0 | E19: =+E18*(1+$E$2) -> 249350.29 | F19: =ROUND(IF(OR(A19>YEAR($M$18),A19<YEAR($M$17)),0,YEARFRAC(MAX(DATE(A19,1,1),$M$17),MIN(DATE(A19,12,31),$M$18),0)),8) -> #NUM! | H19: 2003 | I19: 1722.22 | J19: =+tablemax[[#This Row],[Plafond des PD]]/0.02 -> 86111
A20: =+A19+1 -> 2039 | B20: =IFERROR(+VLOOKUP(A20,$L$7:$M$11,2,0),B19*(1+Data!$E$15)) -> #VALUE! | C20: =ROUND(IF(A20<Data!$C$28,MIN(B20,E20),IF(A20=Data!$C$28,MIN(B20,E20)*(Data!$D$28-1)/12,0)),2) -> 0 | D20: =ROUND(IF(A20<Data!$C$28,1,IF(A20=Data!$C$28,(Data!$D$28-1)/12,0)),8) -> 0 | E20: =+E19*(1+$E$2) -> 254337.29 | F20: =ROUND(IF(OR(A20>YEAR($M$18),A20<YEAR($M$17)),0,YEARFRAC(MAX(DATE(A20,1,1),$M$17),MIN(DATE(A20,12,31),$M$18),0)),8) -> #NUM! | H20: 2004 | I20: 1833.33 | J20: =+tablemax[[#This Row],[Plafond des PD]]/0.02 -> 91666.5 | L20: Salaire moyen final | M20: =ROUND(MIN(SUMPRODUCT(B4:B55,F4:F55)/SUM(F4:F55),INDEX($E$4:$E$55,MATCH(YEAR(M18)+IF(MONTH(M18)=1,-1,0),$A$4:$A$55,0),1)),2) -> #VALUE!
A21: =+A20+1 -> 2040 | B21: =IFERROR(+VLOOKUP(A21,$L$7:$M$11,2,0),B20*(1+Data!$E$15)) -> #VALUE! | C21: =ROUND(IF(A21<Data!$C$28,MIN(B21,E21),IF(A21=Data!$C$28,MIN(B21,E21)*(Data!$D$28-1)/12,0)),2) -> 0 | D21: =ROUND(IF(A21<Data!$C$28,1,IF(A21=Data!$C$28,(Data!$D$28-1)/12,0)),8) -> 0 | E21: =+E20*(1+$E$2) -> 259424.04 | F21: =ROUND(IF(OR(A21>YEAR($M$18),A21<YEAR($M$17)),0,YEARFRAC(MAX(DATE(A21,1,1),$M$17),MIN(DATE(A21,12,31),$M$18),0)),8) -> #NUM! | H21: 2005 | I21: 2000 | J21: =+tablemax[[#This Row],[Plafond des PD]]/0.02 -> 100000
A22: =+A21+1 -> 2041 | B22: =IFERROR(+VLOOKUP(A22,$L$7:$M$11,2,0),B21*(1+Data!$E$15)) -> #VALUE! | C22: =ROUND(IF(A22<Data!$C$28,MIN(B22,E22),IF(A22=Data!$C$28,MIN(B22,E22)*(Data!$D$28-1)/12,0)),2) -> 0 | D22: =ROUND(IF(A22<Data!$C$28,1,IF(A22=Data!$C$28,(Data!$D$28-1)/12,0)),8) -> 0 | E22: =+E21*(1+$E$2) -> 264612.52 | F22: =ROUND(IF(OR(A22>YEAR($M$18),A22<YEAR($M$17)),0,YEARFRAC(MAX(DATE(A22,1,1),$M$17),MIN(DATE(A22,12,31),$M$18),0)),8) -> #NUM! | H22: 2006 | I22: 2111.11 | J22: =+tablemax[[#This Row],[Plafond des PD]]/0.02 -> 105555.5
A23: =+A22+1 -> 2042 | B23: =IFERROR(+VLOOKUP(A23,$L$7:$M$11,2,0),B22*(1+Data!$E$15)) -> #VALUE! | C23: =ROUND(IF(A23<Data!$C$28,MIN(B23,E23),IF(A23=Data!$C$28,MIN(B23,E23)*(Data!$D$28-1)/12,0)),2) -> 0 | D23: =ROUND(IF(A23<Data!$C$28,1,IF(A23=Data!$C$28,(Data!$D$28-1)/12,0)),8) -> 0 | E23: =+E22*(1+$E$2) -> 269904.77 | F23: =ROUND(IF(OR(A23>YEAR($M$18),A23<YEAR($M$17)),0,YEARFRAC(MAX(DATE(A23,1,1),$M$17),MIN(DATE(A23,12,31),$M$18),0)),8) -> #NUM! | H23: 2007 | I23: 2222.22 | J23: =+tablemax[[#This Row],[Plafond des PD]]/0.02 -> 111111
A24: =+A23+1 -> 2043 | B24: =IFERROR(+VLOOKUP(A24,$L$7:$M$11,2,0),B23*(1+Data!$E$15)) -> #VALUE! | C24: =ROUND(IF(A24<Data!$C$28,MIN(B24,E24),IF(A24=Data!$C$28,MIN(B24,E24)*(Data!$D$28-1)/12,0)),2) -> 0 | D24: =ROUND(IF(A24<Data!$C$28,1,IF(A24=Data!$C$28,(Data!$D$28-1)/12,0)),8) -> 0 | E24: =+E23*(1+$E$2) -> 275302.87 | F24: =ROUND(IF(OR(A24>YEAR($M$18),A24<YEAR($M$17)),0,YEARFRAC(MAX(DATE(A24,1,1),$M$17),MIN(DATE(A24,12,31),$M$18),0)),8) -> #NUM! | H24: 2008 | I24: 2333.33 | J24: =+tablemax[[#This Row],[Plafond des PD]]/0.02 -> 116666.5
A25: =+A24+1 -> 2044 | B25: =IFERROR(+VLOOKUP(A25,$L$7:$M$11,2,0),B24*(1+Data!$E$15)) -> #VALUE! | C25: =ROUND(IF(A25<Data!$C$28,MIN(B25,E25),IF(A25=Data!$C$28,MIN(B25,E25)*(Data!$D$28-1)/12,0)),2) -> 0 | D25: =ROUND(IF(A25<Data!$C$28,1,IF(A25=Data!$C$28,(Data!$D$28-1)/12,0)),8) -> 0 | E25: =+E24*(1+$E$2) -> 280808.92 | F25: =ROUND(IF(OR(A25>YEAR($M$18),A25<YEAR($M$17)),0,YEARFRAC(MAX(DATE(A25,1,1),$M$17),MIN(DATE(A25,12,31),$M$18),0)),8) -> #NUM! | H25: 2009 | I25: 2444.44 | J25: =+tablemax[[#This Row],[Plafond des PD]]/0.02 -> 122222
A26: =+A25+1 -> 2045 | B26: =IFERROR(+VLOOKUP(A26,$L$7:$M$11,2,0),B25*(1+Data!$E$15)) -> #VALUE! | C26: =ROUND(IF(A26<Data!$C$28,MIN(B26,E26),IF(A26=Data!$C$28,MIN(B26,E26)*(Data!$D$28-1)/12,0)),2) -> 0 | D26: =ROUND(IF(A26<Data!$C$28,1,IF(A26=Data!$C$28,(Data!$D$28-1)/12,0)),8) -> 0 | E26: =+E25*(1+$E$2) -> 286425.1 | F26: =ROUND(IF(OR(A26>YEAR($M$18),A26<YEAR($M$17)),0,YEARFRAC(MAX(DATE(A26,1,1),$M$17),MIN(DATE(A26,12,31),$M$18),0)),8) -> #NUM! | H26: 2010 | I26: 2494.44 | J26: =+tablemax[[#This Row],[Plafond des PD]]/0.02 -> 124722
A27: =+A26+1 -> 2046 | B27: =IFERROR(+VLOOKUP(A27,$L$7:$M$11,2,0),B26*(1+Data!$E$15)) -> #VALUE! | C27: =ROUND(IF(A27<Data!$C$28,MIN(B27,E27),IF(A27=Data!$C$28,MIN(B27,E27)*(Data!$D$28-1)/12,0)),2) -> 0 | D27: =ROUND(IF(A27<Data!$C$28,1,IF(A27=Data!$C$28,(Data!$D$28-1)/12,0)),8) -> 0 | E27: =+E26*(1+$E$2) -> 292153.6 | F27: =ROUND(IF(OR(A27>YEAR($M$18),A27<YEAR($M$17)),0,YEARFRAC(MAX(DATE(A27,1,1),$M$17),MIN(DATE(A27,12,31),$M$18),0)),8) -> #NUM! | H27: 2011 | I27: 2552.22 | J27: =+tablemax[[#This Row],[Plafond des PD]]/0.02 -> 127611
A28: =+A27+1 -> 2047 | B28: =IFERROR(+VLOOKUP(A28,$L$7:$M$11,2,0),B27*(1+Data!$E$15)) -> #VALUE! | C28: =ROUND(IF(A28<Data!$C$28,MIN(B28,E28),IF(A28=Data!$C$28,MIN(B28,E28)*(Data!$D$28-1)/12,0)),2) -> 0 | D28: =ROUND(IF(A28<Data!$C$28,1,IF(A28=Data!$C$28,(Data!$D$28-1)/12,0)),8) -> 0 | E28: =+E27*(1+$E$2) -> 297996.68 | F28: =ROUND(IF(OR(A28>YEAR($M$18),A28<YEAR($M$17)),0,YEARFRAC(MAX(DATE(A28,1,1),$M$17),MIN(DATE(A28,12,31),$M$18),0)),8) -> #NUM! | H28: 2012 | I28: 2646.67 | J28: =+tablemax[[#This Row],[Plafond des PD]]/0.02 -> 132333.5
A29: =+A28+1 -> 2048 | B29: =IFERROR(+VLOOKUP(A29,$L$7:$M$11,2,0),B28*(1+Data!$E$15)) -> #VALUE! | C29: =ROUND(IF(A29<Data!$C$28,MIN(B29,E29),IF(A29=Data!$C$28,MIN(B29,E29)*(Data!$D$28-1)/12,0)),2) -> 0 | D29: =ROUND(IF(A29<Data!$C$28,1,IF(A29=Data!$C$28,(Data!$D$28-1)/12,0)),8) -> 0 | E29: =+E28*(1+$E$2) -> 303956.61 | F29: =ROUND(IF(OR(A29>YEAR($M$18),A29<YEAR($M$17)),0,YEARFRAC(MAX(DATE(A29,1,1),$M$17),MIN(DATE(A29,12,31),$M$18),0)),8) -> #NUM! | H29: 2013 | I29: 2696.67 | J29: =+tablemax[[#This Row],[Plafond des PD]]/0.02 -> 134833.5
A30: =+A29+1 -> 2049 | B30: =IFERROR(+VLOOKUP(A30,$L$7:$M$11,2,0),B29*(1+Data!$E$15)) -> #VALUE! | C30: =ROUND(IF(A30<Data!$C$28,MIN(B30,E30),IF(A30=Data!$C$28,MIN(B30,E30)*(Data!$D$28-1)/12,0)),2) -> 0 | D30: =ROUND(IF(A30<Data!$C$28,1,IF(A30=Data!$C$28,(Data!$D$28-1)/12,0)),8) -> 0 | E30: =+E29*(1+$E$2) -> 310035.74 | F30: =ROUND(IF(OR(A30>YEAR($M$18),A30<YEAR($M$17)),0,YEARFRAC(MAX(DATE(A30,1,1),$M$17),MIN(DATE(A30,12,31),$M$18),0)),8) -> #NUM! | H30: 2014 | I30: 2770 | J30: =+tablemax[[#This Row],[Plafond des PD]]/0.02 -> 138500
A31: =+A30+1 -> 2050 | B31: =IFERROR(+VLOOKUP(A31,$L$7:$M$11,2,0),B30*(1+Data!$E$15)) -> #VALUE! | C31: =ROUND(IF(A31<Data!$C$28,MIN(B31,E31),IF(A31=Data!$C$28,MIN(B31,E31)*(Data!$D$28-1)/12,0)),2) -> 0 | D31: =ROUND(IF(A31<Data!$C$28,1,IF(A31=Data!$C$28,(Data!$D$28-1)/12,0)),8) -> 0 | E31: =+E30*(1+$E$2) -> 316236.46 | F31: =ROUND(IF(OR(A31>YEAR($M$18),A31<YEAR($M$17)),0,YEARFRAC(MAX(DATE(A31,1,1),$M$17),MIN(DATE(A31,12,31),$M$18),0)),8) -> #NUM! | H31: 2015 | I31: 2818.89 | J31: =+tablemax[[#This Row],[Plafond des PD]]/0.02 -> 140944.5
A32: =+A31+1 -> 2051 | B32: =IFERROR(+VLOOKUP(A32,$L$7:$M$11,2,0),B31*(1+Data!$E$15)) -> #VALUE! | C32: =ROUND(IF(A32<Data!$C$28,MIN(B32,E32),IF(A32=Data!$C$28,MIN(B32,E32)*(Data!$D$28-1)/12,0)),2) -> 0 | D32: =ROUND(IF(A32<Data!$C$28,1,IF(A32=Data!$C$28,(Data!$D$28-1)/12,0)),8) -> 0 | E32: =+E31*(1+$E$2) -> 322561.19 | F32: =ROUND(IF(OR(A32>YEAR($M$18),A32<YEAR($M$17)),0,YEARFRAC(MAX(DATE(A32,1,1),$M$17),MIN(DATE(A32,12,31),$M$18),0)),8) -> #NUM! | H32: 2016 | I32: 2890 | J32: =+tablemax[[#This Row],[Plafond des PD]]/0.02 -> 144500
... A42: =+A41+1 -> 2061 | B42: =IFERROR(+VLOOKUP(A42,$L$7:$M$11,2,0),B41*(1+Data!$E$15)) -> #VALUE! | C42: =ROUND(IF(A42<Data!$C$28,MIN(B42,E42),IF(A42=Data!$C$28,MIN(B42,E42)*(Data!$D$28-1)/12,0)),2) -> 0 | D42: =ROUND(IF(A42<Data!$C$28,1,IF(A42=Data!$C$28,(Data!$D$28-1)/12,0)),8) -> 0 | E42: =+E41*(1+$E$2) -> 393200.28 | F42: =ROUND(IF(OR(A42>YEAR($M$18),A42<YEAR($M$17)),0,YEARFRAC(MAX(DATE(A42,1,1),$M$17),MIN(DATE(A42,12,31),$M$18),0)),8) -> #NUM! | H42: 2026 | I42: 3932.22 | J42: =+tablemax[[#This Row],[Plafond des PD]]/0.02 -> 196611
A43: =+A42+1 -> 2062 | B43: =IFERROR(+VLOOKUP(A43,$L$7:$M$11,2,0),B42*(1+Data!$E$15)) -> #VALUE! | C43: =ROUND(IF(A43<Data!$C$28,MIN(B43,E43),IF(A43=Data!$C$28,MIN(B43,E43)*(Data!$D$28-1)/12,0)),2) -> 0 | D43: =ROUND(IF(A43<Data!$C$28,1,IF(A43=Data!$C$28,(Data!$D$28-1)/12,0)),8) -> 0 | E43: =+E42*(1+$E$2) -> 401064.29 | F43: =ROUND(IF(OR(A43>YEAR($M$18),A43<YEAR($M$17)),0,YEARFRAC(MAX(DATE(A43,1,1),$M$17),MIN(DATE(A43,12,31),$M$18),0)),8) -> #NUM!
A44: =+A43+1 -> 2063 | B44: =IFERROR(+VLOOKUP(A44,$L$7:$M$11,2,0),B43*(1+Data!$E$15)) -> #VALUE! | C44: =ROUND(IF(A44<Data!$C$28,MIN(B44,E44),IF(A44=Data!$C$28,MIN(B44,E44)*(Data!$D$28-1)/12,0)),2) -> 0 | D44: =ROUND(IF(A44<Data!$C$28,1,IF(A44=Data!$C$28,(Data!$D$28-1)/12,0)),8) -> 0 | E44: =+E43*(1+$E$2) -> 409085.58 | F44: =ROUND(IF(OR(A44>YEAR($M$18),A44<YEAR($M$17)),0,YEARFRAC(MAX(DATE(A44,1,1),$M$17),MIN(DATE(A44,12,31),$M$18),0)),8) -> #NUM!
A45: =+A44+1 -> 2064 | B45: =IFERROR(+VLOOKUP(A45,$L$7:$M$11,2,0),B44*(1+Data!$E$15)) -> #VALUE! | C45: =ROUND(IF(A45<Data!$C$28,MIN(B45,E45),IF(A45=Data!$C$28,MIN(B45,E45)*(Data!$D$28-1)/12,0)),2) -> 0 | D45: =ROUND(IF(A45<Data!$C$28,1,IF(A45=Data!$C$28,(Data!$D$28-1)/12,0)),8) -> 0 | E45: =+E44*(1+$E$2) -> 417267.29 | F45: =ROUND(IF(OR(A45>YEAR($M$18),A45<YEAR($M$17)),0,YEARFRAC(MAX(DATE(A45,1,1),$M$17),MIN(DATE(A45,12,31),$M$18),0)),8) -> #NUM!
A46: =+A45+1 -> 2065 | B46: =IFERROR(+VLOOKUP(A46,$L$7:$M$11,2,0),B45*(1+Data!$E$15)) -> #VALUE! | C46: =ROUND(IF(A46<Data!$C$28,MIN(B46,E46),IF(A46=Data!$C$28,MIN(B46,E46)*(Data!$D$28-1)/12,0)),2) -> 0 | D46: =ROUND(IF(A46<Data!$C$28,1,IF(A46=Data!$C$28,(Data!$D$28-1)/12,0)),8) -> 0 | E46: =+E45*(1+$E$2) -> 425612.63 | F46: =ROUND(IF(OR(A46>YEAR($M$18),A46<YEAR($M$17)),0,YEARFRAC(MAX(DATE(A46,1,1),$M$17),MIN(DATE(A46,12,31),$M$18),0)),8) -> #NUM!
A47: =+A46+1 -> 2066 | B47: =IFERROR(+VLOOKUP(A47,$L$7:$M$11,2,0),B46*(1+Data!$E$15)) -> #VALUE! | C47: =ROUND(IF(A47<Data!$C$28,MIN(B47,E47),IF(A47=Data!$C$28,MIN(B47,E47)*(Data!$D$28-1)/12,0)),2) -> 0 | D47: =ROUND(IF(A47<Data!$C$28,1,IF(A47=Data!$C$28,(Data!$D$28-1)/12,0)),8) -> 0 | E47: =+E46*(1+$E$2) -> 434124.89 | F47: =ROUND(IF(OR(A47>YEAR($M$18),A47<YEAR($M$17)),0,YEARFRAC(MAX(DATE(A47,1,1),$M$17),MIN(DATE(A47,12,31),$M$18),0)),8) -> #NUM!
A48: =+A47+1 -> 2067 | B48: =IFERROR(+VLOOKUP(A48,$L$7:$M$11,2,0),B47*(1+Data!$E$15)) -> #VALUE! | C48: =ROUND(IF(A48<Data!$C$28,MIN(B48,E48),IF(A48=Data!$C$28,MIN(B48,E48)*(Data!$D$28-1)/12,0)),2) -> 0 | D48: =ROUND(IF(A48<Data!$C$28,1,IF(A48=Data!$C$28,(Data!$D$28-1)/12,0)),8) -> 0 | E48: =+E47*(1+$E$2) -> 442807.38 | F48: =ROUND(IF(OR(A48>YEAR($M$18),A48<YEAR($M$17)),0,YEARFRAC(MAX(DATE(A48,1,1),$M$17),MIN(DATE(A48,12,31),$M$18),0)),8) -> #NUM!
A49: =+A48+1 -> 2068 | B49: =IFERROR(+VLOOKUP(A49,$L$7:$M$11,2,0),B48*(1+Data!$E$15)) -> #VALUE! | C49: =ROUND(IF(A49<Data!$C$28,MIN(B49,E49),IF(A49=Data!$C$28,MIN(B49,E49)*(Data!$D$28-1)/12,0)),2) -> 0 | D49: =ROUND(IF(A49<Data!$C$28,1,IF(A49=Data!$C$28,(Data!$D$28-1)/12,0)),8) -> 0 | E49: =+E48*(1+$E$2) -> 451663.53 | F49: =ROUND(IF(OR(A49>YEAR($M$18),A49<YEAR($M$17)),0,YEARFRAC(MAX(DATE(A49,1,1),$M$17),MIN(DATE(A49,12,31),$M$18),0)),8) -> #NUM!
A50: =+A49+1 -> 2069 | B50: =IFERROR(+VLOOKUP(A50,$L$7:$M$11,2,0),B49*(1+Data!$E$15)) -> #VALUE! | C50: =ROUND(IF(A50<Data!$C$28,MIN(B50,E50),IF(A50=Data!$C$28,MIN(B50,E50)*(Data!$D$28-1)/12,0)),2) -> 0 | D50: =ROUND(IF(A50<Data!$C$28,1,IF(A50=Data!$C$28,(Data!$D$28-1)/12,0)),8) -> 0 | E50: =+E49*(1+$E$2) -> 460696.8 | F50: =ROUND(IF(OR(A50>YEAR($M$18),A50<YEAR($M$17)),0,YEARFRAC(MAX(DATE(A50,1,1),$M$17),MIN(DATE(A50,12,31),$M$18),0)),8) -> #NUM!
...
